BEGIN:VCALENDAR
VERSION:2.0
PRODID:-//Paradise Performing Arts Center - ECPv6.15.18//NONSGML v1.0//EN
CALSCALE:GREGORIAN
METHOD:PUBLISH
X-WR-CALNAME:Paradise Performing Arts Center
X-ORIGINAL-URL:https://www.paradiseperformingarts.com
X-WR-CALDESC:Events for Paradise Performing Arts Center
REFRESH-INTERVAL;VALUE=DURATION:PT1H
X-Robots-Tag:noindex
X-PUBLISHED-TTL:PT1H
BEGIN:VTIMEZONE
TZID:America/Los_Angeles
BEGIN:DAYLIGHT
TZOFFSETFROM:-0800
TZOFFSETTO:-0700
TZNAME:PDT
DTSTART:20250309T100000
END:DAYLIGHT
BEGIN:STANDARD
TZOFFSETFROM:-0700
TZOFFSETTO:-0800
TZNAME:PST
DTSTART:20251102T090000
END:STANDARD
BEGIN:DAYLIGHT
TZOFFSETFROM:-0800
TZOFFSETTO:-0700
TZNAME:PDT
DTSTART:20260308T100000
END:DAYLIGHT
BEGIN:STANDARD
TZOFFSETFROM:-0700
TZOFFSETTO:-0800
TZNAME:PST
DTSTART:20261101T090000
END:STANDARD
BEGIN:DAYLIGHT
TZOFFSETFROM:-0800
TZOFFSETTO:-0700
TZNAME:PDT
DTSTART:20270314T100000
END:DAYLIGHT
BEGIN:STANDARD
TZOFFSETFROM:-0700
TZOFFSETTO:-0800
TZNAME:PST
DTSTART:20271107T090000
END:STANDARD
END:VTIMEZONE
BEGIN:VEVENT
DTSTART;TZID=America/Los_Angeles:20260501T190000
DTEND;TZID=America/Los_Angeles:20260501T220000
DTSTAMP:20260421T061046
CREATED:20260213T235445Z
LAST-MODIFIED:20260326T132105Z
UID:1754-1777662000-1777672800@www.paradiseperformingarts.com
SUMMARY:Definitely Dead Returns
DESCRIPTION:Get your Tickets early for this Great show
URL:https://www.paradiseperformingarts.com/event/definitely-dead-returns/
LOCATION:Paradise Performing Arts Center\, 777 Nunneley Rd\, Paradise\, California\, 95969\, United States
CATEGORIES:Blues,Music,Rock
ATTACH;FMTTYPE=image/png:https://www.paradiseperformingarts.com/wp-content/uploads/2026/02/Dead-Logo.png
END:VEVENT
BEGIN:VEVENT
DTSTART;TZID=America/Los_Angeles:20260523T173000
DTEND;TZID=America/Los_Angeles:20260523T210000
DTSTAMP:20260421T061046
CREATED:20260213T174009Z
LAST-MODIFIED:20260305T034919Z
UID:1731-1779557400-1779570000@www.paradiseperformingarts.com
SUMMARY:The Sun Kings
DESCRIPTION:Tickets\n\n\n\n\n\n\n\nThe Sun Kings are coming to Paradise! Enjoy THE infamous Beatles tribute as nature intended\, taking you back to memorable times. Hosted at the beautiful Paradise Performing Arts enter\, this event will benefit Resolute Promise\, whose mission is to bring home those that gave their full measure of devotion – American Missing in Action. CLICK THE BANNER ABOVE FOR TICKETS. \nVIP Tickets get you entry to PPAC at 5:30 to enjoy a tasty treat and a beverage of your choice. PLUS early entry into the theatre to select your seating before general admission. \n\n\n\n\n\n\n\nSource: https://www.exploretock.com/thegoodworkskitchen/event/593681/the-sun-kings-in-paradise
URL:https://www.paradiseperformingarts.com/event/the-sun-kings/
LOCATION:Paradise Performing Arts Center\, 777 Nunneley Rd\, Paradise\, California\, 95969\, United States
CATEGORIES:Music
ATTACH;FMTTYPE=image/jpeg:https://www.paradiseperformingarts.com/wp-content/uploads/2026/02/Sun-Kings-New.jpg
END:VEVENT
END:VCALENDAR